BEGIN:VCALENDAR
VERSION:2.0
PRODID:-//217.160.0.2//NONSGML kigkonsult.se iCalcreator 2.20//
CALSCALE:GREGORIAN
METHOD:PUBLISH
X-WR-TIMEZONE:Europe/Berlin
BEGIN:VEVENT
UID:event15@FMC Lichtenplatz e.V.
DTSTAMP:20260422T091007Z
CATEGORIES:FMC Lichtenplatz e.V.
DESCRIPTION:Vereinsmeisterschaft Teil 3\nKategorie: FMC Lichtenplatz e.V.\n
 ICS-Link: https://www.fmc-lichtenplatz.de/index.php?option=com_jem&view=ev
 ent&id=15:vereinsmeisterschaft-teil-3\n
DTSTART;TZID=Europe/Berlin:20130921T140000
DTEND;TZID=Europe/Berlin:20130921T140000
LOCATION:Wefelpütt\,Wuppertal
SUMMARY:Vereinsmeisterschaft Teil 3
URL:https://www.fmc-lichtenplatz.de/index.php?option=com_jem&view=event&id=
 15:vereinsmeisterschaft-teil-3
END:VEVENT
END:VCALENDAR