BEGIN:VCALENDAR
VERSION:2.0
PRODID:-//217.160.0.2//NONSGML kigkonsult.se iCalcreator 2.20//
CALSCALE:GREGORIAN
METHOD:PUBLISH
X-WR-TIMEZONE:Europe/Berlin
BEGIN:VEVENT
UID:event209@FMC Lichtenplatz e.V.
DTSTAMP:20260422T090401Z
CATEGORIES:Messen
DESCRIPTION:11. ProWing International\nKategorie: Messen\nICS-Link: https:/
 /www.fmc-lichtenplatz.de/index.php?option=com_jem&view=event&id=209:11-pro
 wing-international\n
DTSTART;VALUE=DATE:20200501
DTEND;VALUE=DATE:20200504
LOCATION:Flugplatz Soest - Bad Sassendorf
SUMMARY:11. ProWing International
URL:https://www.fmc-lichtenplatz.de/index.php?option=com_jem&view=event&id=
 209:11-prowing-international
END:VEVENT
END:VCALENDAR