BEGIN:VCALENDAR
VERSION:2.0
PRODID:-//217.160.0.2//NONSGML kigkonsult.se iCalcreator 2.20//
CALSCALE:GREGORIAN
METHOD:PUBLISH
X-WR-TIMEZONE:Europe/Berlin
BEGIN:VEVENT
UID:event211@FMC Lichtenplatz e.V.
DTSTAMP:20260420T124650Z
CATEGORIES:FMC Lichtenplatz e.V.
DESCRIPTION:Platzpflege\nKategorie: FMC Lichtenplatz e.V.\nICS-Link: https:
 //www.fmc-lichtenplatz.de/index.php?option=com_jem&view=event&id=211:platz
 pflege\n
DTSTART;TZID=Europe/Berlin:20200215T140000
DTEND;TZID=Europe/Berlin:20200215T140000
LOCATION:Sonnenplatz / Sonnenwiese\,L418\, Parkplatz BEK\,Wuppertal
SUMMARY:Platzpflege
URL:https://www.fmc-lichtenplatz.de/index.php?option=com_jem&view=event&id=
 211:platzpflege
END:VEVENT
END:VCALENDAR