BEGIN:VCALENDAR
VERSION:2.0
PRODID:-//217.160.0.2//NONSGML kigkonsult.se iCalcreator 2.20//
CALSCALE:GREGORIAN
METHOD:PUBLISH
X-WR-TIMEZONE:Europe/Berlin
BEGIN:VEVENT
UID:event212@FMC Lichtenplatz e.V.
DTSTAMP:20260422T110627Z
CATEGORIES:FMC Lichtenplatz e.V.
DESCRIPTION:Anfliegen 2020 (fällt aus!)\nKategorie: FMC Lichtenplatz e.V.\n
 ICS-Link: https://www.fmc-lichtenplatz.de/index.php?option=com_jem&view=ev
 ent&id=212:anfliegen-2020\n
DTSTART;VALUE=DATE:20200321
DTEND;VALUE=DATE:20200322
SUMMARY:Anfliegen 2020 (fällt aus!)
URL:https://www.fmc-lichtenplatz.de/index.php?option=com_jem&view=event&id=
 212:anfliegen-2020
END:VEVENT
END:VCALENDAR