BEGIN:VCALENDAR
VERSION:2.0
PRODID:-//217.160.0.2//NONSGML kigkonsult.se iCalcreator 2.20//
CALSCALE:GREGORIAN
METHOD:PUBLISH
X-WR-TIMEZONE:Europe/Berlin
BEGIN:VEVENT
UID:event217@FMC Lichtenplatz e.V.
DTSTAMP:20260422T091043Z
CATEGORIES:FMC Lichtenplatz e.V.
DESCRIPTION:Hallenfliegen (Weihnachtsfeier)\nKategorie: FMC Lichtenplatz e.
 V.\nICS-Link: https://www.fmc-lichtenplatz.de/index.php?option=com_jem&vie
 w=event&id=217:hallenfliegen-weihnachtsfeier\n
DTSTART;VALUE=DATE:20201213
DTEND;VALUE=DATE:20201214
LOCATION:Sporthalle Vohwinkel (Nocken)\,Nocken\,Wuppertal
SUMMARY:Hallenfliegen (Weihnachtsfeier)
URL:https://www.fmc-lichtenplatz.de/index.php?option=com_jem&view=event&id=
 217:hallenfliegen-weihnachtsfeier
END:VEVENT
END:VCALENDAR