BEGIN:VCALENDAR
VERSION:2.0
PRODID:-//217.160.0.2//NONSGML kigkonsult.se iCalcreator 2.20//
CALSCALE:GREGORIAN
METHOD:PUBLISH
X-WR-TIMEZONE:Europe/Berlin
BEGIN:VEVENT
UID:event231@FMC Lichtenplatz e.V.
DTSTAMP:20260422T105128Z
CATEGORIES:FMC Lichtenplatz e.V.
DESCRIPTION:Grillen am Wefelpütt\nKategorie: FMC Lichtenplatz e.V.\nICS-Lin
 k: https://www.fmc-lichtenplatz.de/index.php?option=com_jem&view=event&id=
 231:grillen-am-wefelpuett\n
DTSTART;TZID=Europe/Berlin:20220915T170000
DTEND;TZID=Europe/Berlin:20220915T170000
LOCATION:Wefelpütt\,Wuppertal
SUMMARY:Grillen am Wefelpütt
URL:https://www.fmc-lichtenplatz.de/index.php?option=com_jem&view=event&id=
 231:grillen-am-wefelpuett
END:VEVENT
END:VCALENDAR