BEGIN:VCALENDAR
VERSION:2.0
PRODID:-//217.160.0.2//NONSGML kigkonsult.se iCalcreator 2.20//
CALSCALE:GREGORIAN
METHOD:PUBLISH
X-WR-TIMEZONE:Europe/Berlin
BEGIN:VEVENT
UID:event40@FMC Lichtenplatz e.V.
DTSTAMP:20260422T110602Z
CATEGORIES:Sonstiges
DESCRIPTION:Sommerfest auf dem Ponyhof Wefelpütt\nKategorie: Sonstiges\nICS
 -Link: https://www.fmc-lichtenplatz.de/index.php?option=com_jem&view=event
 &id=40:sommerfest-auf-dem-ponyhof-wefelpuett\n
DTSTART;VALUE=DATE:20130914
DTEND;VALUE=DATE:20130916
LOCATION:Wefelpütt\,Wuppertal
SUMMARY:Sommerfest auf dem Ponyhof Wefelpütt
URL:https://www.fmc-lichtenplatz.de/index.php?option=com_jem&view=event&id=
 40:sommerfest-auf-dem-ponyhof-wefelpuett
END:VEVENT
END:VCALENDAR